BEGIN:VCALENDAR
VERSION:2.0
PRODID:-//St. John&#039;s Lutheran. Church - ECPv6.15.20//NONSGML v1.0//EN
CALSCALE:GREGORIAN
METHOD:PUBLISH
X-ORIGINAL-URL:https://stjohnsnp.org
X-WR-CALDESC:Events for St. John&#039;s Lutheran. Church
REFRESH-INTERVAL;VALUE=DURATION:PT1H
X-Robots-Tag:noindex
X-PUBLISHED-TTL:PT1H
BEGIN:VTIMEZONE
TZID:America/Chicago
BEGIN:DAYLIGHT
TZOFFSETFROM:-0600
TZOFFSETTO:-0500
TZNAME:CDT
DTSTART:20220313T080000
END:DAYLIGHT
BEGIN:STANDARD
TZOFFSETFROM:-0500
TZOFFSETTO:-0600
TZNAME:CST
DTSTART:20221106T070000
END:STANDARD
BEGIN:DAYLIGHT
TZOFFSETFROM:-0600
TZOFFSETTO:-0500
TZNAME:CDT
DTSTART:20230312T080000
END:DAYLIGHT
BEGIN:STANDARD
TZOFFSETFROM:-0500
TZOFFSETTO:-0600
TZNAME:CST
DTSTART:20231105T070000
END:STANDARD
BEGIN:DAYLIGHT
TZOFFSETFROM:-0600
TZOFFSETTO:-0500
TZNAME:CDT
DTSTART:20240310T080000
END:DAYLIGHT
BEGIN:STANDARD
TZOFFSETFROM:-0500
TZOFFSETTO:-0600
TZNAME:CST
DTSTART:20241103T070000
END:STANDARD
END:VTIMEZONE
BEGIN:VTIMEZONE
TZID:UTC
BEGIN:STANDARD
TZOFFSETFROM:+0000
TZOFFSETTO:+0000
TZNAME:UTC
DTSTART:20220101T000000
END:STANDARD
END:VTIMEZONE
BEGIN:VEVENT
DTSTART;TZID=America/Chicago:20231015T090000
DTEND;TZID=America/Chicago:20231015T100000
DTSTAMP:20260425T152422
CREATED:20230912T021054Z
LAST-MODIFIED:20230912T021054Z
UID:10000052-1697360400-1697364000@stjohnsnp.org
SUMMARY:Sunday Worship Services
DESCRIPTION:Sunday worship services at St. John’s Lutheran Church\, North Prairie\, WI begin at 9 AM with fellowship following immediately after in the narthex. All are welcome to join us on any Sunday and we look forward to seeing you very soon.
URL:https://stjohnsnp.org/event/sunday-worship-services/2023-10-15/
LOCATION:St. John’s Lutheran Church\, 312 N. Main Street\, North Prairie\, WI\, 53153\, United States
ATTACH;FMTTYPE=image/jpeg:https://stjohnsnp.org/wp-content/uploads/2023/04/F6DD1C19-B4CD-4E4F-B04E-BFD972EE7C7E_1_105_c.jpeg
END:VEVENT
BEGIN:VEVENT
DTSTART;TZID=America/Chicago:20231011T120000
DTEND;TZID=America/Chicago:20231011T150000
DTSTAMP:20260425T152422
CREATED:20230918T181217Z
LAST-MODIFIED:20230918T181217Z
UID:10007863-1697025600-1697036400@stjohnsnp.org
SUMMARY:Senior Fall Luncheon
DESCRIPTION:Join us for fellowship\, food\, and some wonderful entertainment from the Waukesha Civic Theater Senior Players. RSVP by September 28th by calling the church office or emailing Kathy.
URL:https://stjohnsnp.org/event/senior-fall-luncheon/
LOCATION:St. John’s Lutheran Church\, 312 N. Main Street\, North Prairie\, WI\, 53153\, United States
ATTACH;FMTTYPE=image/png:https://stjohnsnp.org/wp-content/uploads/2023/09/Screenshot-2023-09-18-at-1.11.22-PM.png
ORGANIZER;CN="LWML":MAILTO:kathy@stjohnsnp.org
END:VEVENT
BEGIN:VEVENT
DTSTART;TZID=UTC:20231011T100000
DTEND;TZID=UTC:20231011T110000
DTSTAMP:20260425T152422
CREATED:20230912T025649Z
LAST-MODIFIED:20230912T033003Z
UID:10005282-1697018400-1697022000@stjohnsnp.org
SUMMARY:Wednesday Bible Study
DESCRIPTION:Every week we meet to discover the word of God and discuss how we should apply this to our daily lives and actions towards others.
URL:https://stjohnsnp.org/event/wednesday-bible-study/2023-10-11/
LOCATION:St. John’s Lutheran Church\, 312 N. Main Street\, North Prairie\, WI\, 53153\, United States
ATTACH;FMTTYPE=image/jpeg:https://stjohnsnp.org/wp-content/uploads/2023/09/canstockphoto1218411.jpg
END:VEVENT
BEGIN:VEVENT
DTSTART;TZID=America/Chicago:20231008T090000
DTEND;TZID=America/Chicago:20231008T100000
DTSTAMP:20260425T152422
CREATED:20230912T021054Z
LAST-MODIFIED:20230912T021054Z
UID:10000042-1696755600-1696759200@stjohnsnp.org
SUMMARY:Sunday Worship Services
DESCRIPTION:Sunday worship services at St. John’s Lutheran Church\, North Prairie\, WI begin at 9 AM with fellowship following immediately after in the narthex. All are welcome to join us on any Sunday and we look forward to seeing you very soon.
URL:https://stjohnsnp.org/event/sunday-worship-services/2023-10-08/
LOCATION:St. John’s Lutheran Church\, 312 N. Main Street\, North Prairie\, WI\, 53153\, United States
ATTACH;FMTTYPE=image/jpeg:https://stjohnsnp.org/wp-content/uploads/2023/04/F6DD1C19-B4CD-4E4F-B04E-BFD972EE7C7E_1_105_c.jpeg
END:VEVENT
BEGIN:VEVENT
DTSTART;TZID=UTC:20231004T100000
DTEND;TZID=UTC:20231004T110000
DTSTAMP:20260425T152422
CREATED:20230912T025649Z
LAST-MODIFIED:20230912T033003Z
UID:10005272-1696413600-1696417200@stjohnsnp.org
SUMMARY:Wednesday Bible Study
DESCRIPTION:Every week we meet to discover the word of God and discuss how we should apply this to our daily lives and actions towards others.
URL:https://stjohnsnp.org/event/wednesday-bible-study/2023-10-04/
LOCATION:St. John’s Lutheran Church\, 312 N. Main Street\, North Prairie\, WI\, 53153\, United States
ATTACH;FMTTYPE=image/jpeg:https://stjohnsnp.org/wp-content/uploads/2023/09/canstockphoto1218411.jpg
END:VEVENT
BEGIN:VEVENT
DTSTART;TZID=America/Chicago:20231001T090000
DTEND;TZID=America/Chicago:20231001T100000
DTSTAMP:20260425T152422
CREATED:20230912T021054Z
LAST-MODIFIED:20230912T021054Z
UID:10000032-1696150800-1696154400@stjohnsnp.org
SUMMARY:Sunday Worship Services
DESCRIPTION:Sunday worship services at St. John’s Lutheran Church\, North Prairie\, WI begin at 9 AM with fellowship following immediately after in the narthex. All are welcome to join us on any Sunday and we look forward to seeing you very soon.
URL:https://stjohnsnp.org/event/sunday-worship-services/2023-10-01/
LOCATION:St. John’s Lutheran Church\, 312 N. Main Street\, North Prairie\, WI\, 53153\, United States
ATTACH;FMTTYPE=image/jpeg:https://stjohnsnp.org/wp-content/uploads/2023/04/F6DD1C19-B4CD-4E4F-B04E-BFD972EE7C7E_1_105_c.jpeg
END:VEVENT
BEGIN:VEVENT
DTSTART;TZID=UTC:20230927T100000
DTEND;TZID=UTC:20230927T110000
DTSTAMP:20260425T152422
CREATED:20230912T025649Z
LAST-MODIFIED:20230912T033003Z
UID:10005262-1695808800-1695812400@stjohnsnp.org
SUMMARY:Wednesday Bible Study
DESCRIPTION:Every week we meet to discover the word of God and discuss how we should apply this to our daily lives and actions towards others.
URL:https://stjohnsnp.org/event/wednesday-bible-study/2023-09-27/
LOCATION:St. John’s Lutheran Church\, 312 N. Main Street\, North Prairie\, WI\, 53153\, United States
ATTACH;FMTTYPE=image/jpeg:https://stjohnsnp.org/wp-content/uploads/2023/09/canstockphoto1218411.jpg
END:VEVENT
BEGIN:VEVENT
DTSTART;TZID=America/Chicago:20230924T090000
DTEND;TZID=America/Chicago:20230924T100000
DTSTAMP:20260425T152422
CREATED:20230912T021054Z
LAST-MODIFIED:20230912T021054Z
UID:10000022-1695546000-1695549600@stjohnsnp.org
SUMMARY:Sunday Worship Services
DESCRIPTION:Sunday worship services at St. John’s Lutheran Church\, North Prairie\, WI begin at 9 AM with fellowship following immediately after in the narthex. All are welcome to join us on any Sunday and we look forward to seeing you very soon.
URL:https://stjohnsnp.org/event/sunday-worship-services/2023-09-24/
LOCATION:St. John’s Lutheran Church\, 312 N. Main Street\, North Prairie\, WI\, 53153\, United States
ATTACH;FMTTYPE=image/jpeg:https://stjohnsnp.org/wp-content/uploads/2023/04/F6DD1C19-B4CD-4E4F-B04E-BFD972EE7C7E_1_105_c.jpeg
END:VEVENT
BEGIN:VEVENT
DTSTART;TZID=UTC:20230920T100000
DTEND;TZID=UTC:20230920T110000
DTSTAMP:20260425T152422
CREATED:20230912T025649Z
LAST-MODIFIED:20230912T033003Z
UID:10005252-1695204000-1695207600@stjohnsnp.org
SUMMARY:Wednesday Bible Study
DESCRIPTION:Every week we meet to discover the word of God and discuss how we should apply this to our daily lives and actions towards others.
URL:https://stjohnsnp.org/event/wednesday-bible-study/2023-09-20/
LOCATION:St. John’s Lutheran Church\, 312 N. Main Street\, North Prairie\, WI\, 53153\, United States
ATTACH;FMTTYPE=image/jpeg:https://stjohnsnp.org/wp-content/uploads/2023/09/canstockphoto1218411.jpg
END:VEVENT
BEGIN:VEVENT
DTSTART;TZID=America/Chicago:20230919T090000
DTEND;TZID=America/Chicago:20230919T103000
DTSTAMP:20260425T152422
CREATED:20230918T173603Z
LAST-MODIFIED:20230918T173603Z
UID:10007862-1695114000-1695119400@stjohnsnp.org
SUMMARY:LWML
DESCRIPTION:
URL:https://stjohnsnp.org/event/lwml/
LOCATION:St. John’s Lutheran Church\, 312 N. Main Street\, North Prairie\, WI\, 53153\, United States
ATTACH;FMTTYPE=image/png:https://stjohnsnp.org/wp-content/uploads/2023/09/Screenshot-2023-09-18-at-12.35.16-PM.png
END:VEVENT
BEGIN:VEVENT
DTSTART;TZID=America/Chicago:20230917T090000
DTEND;TZID=America/Chicago:20230917T100000
DTSTAMP:20260425T152422
CREATED:20230912T021054Z
LAST-MODIFIED:20230912T021054Z
UID:10000012-1694941200-1694944800@stjohnsnp.org
SUMMARY:Sunday Worship Services
DESCRIPTION:Sunday worship services at St. John’s Lutheran Church\, North Prairie\, WI begin at 9 AM with fellowship following immediately after in the narthex. All are welcome to join us on any Sunday and we look forward to seeing you very soon.
URL:https://stjohnsnp.org/event/sunday-worship-services/2023-09-17/
LOCATION:St. John’s Lutheran Church\, 312 N. Main Street\, North Prairie\, WI\, 53153\, United States
ATTACH;FMTTYPE=image/jpeg:https://stjohnsnp.org/wp-content/uploads/2023/04/F6DD1C19-B4CD-4E4F-B04E-BFD972EE7C7E_1_105_c.jpeg
END:VEVENT
BEGIN:VEVENT
DTSTART;TZID=UTC:20230913T100000
DTEND;TZID=UTC:20230913T110000
DTSTAMP:20260425T152422
CREATED:20230912T025649Z
LAST-MODIFIED:20230912T033003Z
UID:10005242-1694599200-1694602800@stjohnsnp.org
SUMMARY:Wednesday Bible Study
DESCRIPTION:Every week we meet to discover the word of God and discuss how we should apply this to our daily lives and actions towards others.
URL:https://stjohnsnp.org/event/wednesday-bible-study/2023-09-13/
LOCATION:St. John’s Lutheran Church\, 312 N. Main Street\, North Prairie\, WI\, 53153\, United States
ATTACH;FMTTYPE=image/jpeg:https://stjohnsnp.org/wp-content/uploads/2023/09/canstockphoto1218411.jpg
END:VEVENT
BEGIN:VEVENT
DTSTART;TZID=America/Chicago:20230910T090000
DTEND;TZID=America/Chicago:20230910T100000
DTSTAMP:20260425T152422
CREATED:20230912T021054Z
LAST-MODIFIED:20230912T021054Z
UID:10000002-1694336400-1694340000@stjohnsnp.org
SUMMARY:Sunday Worship Services
DESCRIPTION:Sunday worship services at St. John’s Lutheran Church\, North Prairie\, WI begin at 9 AM with fellowship following immediately after in the narthex. All are welcome to join us on any Sunday and we look forward to seeing you very soon.
URL:https://stjohnsnp.org/event/sunday-worship-services/2023-09-10/
LOCATION:St. John’s Lutheran Church\, 312 N. Main Street\, North Prairie\, WI\, 53153\, United States
ATTACH;FMTTYPE=image/jpeg:https://stjohnsnp.org/wp-content/uploads/2023/04/F6DD1C19-B4CD-4E4F-B04E-BFD972EE7C7E_1_105_c.jpeg
END:VEVENT
END:VCALENDAR