BEGIN:VCALENDAR
VERSION:2.0
PRODID:-//St. John&#039;s Lutheran. Church - ECPv6.15.18//NONSGML v1.0//EN
CALSCALE:GREGORIAN
METHOD:PUBLISH
X-WR-CALNAME:St. John&#039;s Lutheran. Church
X-ORIGINAL-URL:https://stjohnsnp.org
X-WR-CALDESC:Events for St. John&#039;s Lutheran. Church
REFRESH-INTERVAL;VALUE=DURATION:PT1H
X-Robots-Tag:noindex
X-PUBLISHED-TTL:PT1H
BEGIN:VTIMEZONE
TZID:UTC
BEGIN:STANDARD
TZOFFSETFROM:+0000
TZOFFSETTO:+0000
TZNAME:UTC
DTSTART:20280101T000000
END:STANDARD
END:VTIMEZONE
BEGIN:VEVENT
DTSTART;TZID=UTC:20290506T103000
DTEND;TZID=UTC:20290506T113000
DTSTAMP:20260423T032944
CREATED:20240828T134859Z
LAST-MODIFIED:20240828T134900Z
UID:10008658-1872757800-1872761400@stjohnsnp.org
SUMMARY:Sunday School
DESCRIPTION:St. John’s has a weekly Sunday School for ages 4-8th grade. Please join us as we teach the children about all the wonderful things that Jesus does for us.
URL:https://stjohnsnp.org/event/sunday-school-2/2029-05-06/
LOCATION:St. John’s Lutheran Church\, 312 N. Main Street\, North Prairie\, WI\, 53153\, United States
ATTACH;FMTTYPE=image/webp:https://stjohnsnp.org/wp-content/uploads/2023/12/sunday-school-15794635.webp
END:VEVENT
BEGIN:VEVENT
DTSTART;TZID=UTC:20290513T103000
DTEND;TZID=UTC:20290513T113000
DTSTAMP:20260423T032944
CREATED:20240828T134859Z
LAST-MODIFIED:20240828T134900Z
UID:10008659-1873362600-1873366200@stjohnsnp.org
SUMMARY:Sunday School
DESCRIPTION:St. John’s has a weekly Sunday School for ages 4-8th grade. Please join us as we teach the children about all the wonderful things that Jesus does for us.
URL:https://stjohnsnp.org/event/sunday-school-2/2029-05-13/
LOCATION:St. John’s Lutheran Church\, 312 N. Main Street\, North Prairie\, WI\, 53153\, United States
ATTACH;FMTTYPE=image/webp:https://stjohnsnp.org/wp-content/uploads/2023/12/sunday-school-15794635.webp
END:VEVENT
BEGIN:VEVENT
DTSTART;TZID=UTC:20290520T103000
DTEND;TZID=UTC:20290520T113000
DTSTAMP:20260423T032944
CREATED:20240828T134859Z
LAST-MODIFIED:20240828T134900Z
UID:10008660-1873967400-1873971000@stjohnsnp.org
SUMMARY:Sunday School
DESCRIPTION:St. John’s has a weekly Sunday School for ages 4-8th grade. Please join us as we teach the children about all the wonderful things that Jesus does for us.
URL:https://stjohnsnp.org/event/sunday-school-2/2029-05-20/
LOCATION:St. John’s Lutheran Church\, 312 N. Main Street\, North Prairie\, WI\, 53153\, United States
ATTACH;FMTTYPE=image/webp:https://stjohnsnp.org/wp-content/uploads/2023/12/sunday-school-15794635.webp
END:VEVENT
BEGIN:VEVENT
DTSTART;TZID=UTC:20290527T103000
DTEND;TZID=UTC:20290527T113000
DTSTAMP:20260423T032944
CREATED:20240828T134859Z
LAST-MODIFIED:20240828T134900Z
UID:10008661-1874572200-1874575800@stjohnsnp.org
SUMMARY:Sunday School
DESCRIPTION:St. John’s has a weekly Sunday School for ages 4-8th grade. Please join us as we teach the children about all the wonderful things that Jesus does for us.
URL:https://stjohnsnp.org/event/sunday-school-2/2029-05-27/
LOCATION:St. John’s Lutheran Church\, 312 N. Main Street\, North Prairie\, WI\, 53153\, United States
ATTACH;FMTTYPE=image/webp:https://stjohnsnp.org/wp-content/uploads/2023/12/sunday-school-15794635.webp
END:VEVENT
END:VCALENDAR